BEGIN:VCALENDAR
VERSION:2.0
PRODID:-//MAGO ACADEMY - ECPv6.15.20//NONSGML v1.0//EN
CALSCALE:GREGORIAN
METHOD:PUBLISH
X-ORIGINAL-URL:https://www.magoacademy.org
X-WR-CALDESC:Events for MAGO ACADEMY
REFRESH-INTERVAL;VALUE=DURATION:PT1H
X-Robots-Tag:noindex
X-PUBLISHED-TTL:PT1H
BEGIN:VTIMEZONE
TZID:America/Los_Angeles
BEGIN:DAYLIGHT
TZOFFSETFROM:-0800
TZOFFSETTO:-0700
TZNAME:PDT
DTSTART:20250309T100000
END:DAYLIGHT
BEGIN:STANDARD
TZOFFSETFROM:-0700
TZOFFSETTO:-0800
TZNAME:PST
DTSTART:20251102T090000
END:STANDARD
BEGIN:DAYLIGHT
TZOFFSETFROM:-0800
TZOFFSETTO:-0700
TZNAME:PDT
DTSTART:20260308T100000
END:DAYLIGHT
BEGIN:STANDARD
TZOFFSETFROM:-0700
TZOFFSETTO:-0800
TZNAME:PST
DTSTART:20261101T090000
END:STANDARD
BEGIN:DAYLIGHT
TZOFFSETFROM:-0800
TZOFFSETTO:-0700
TZNAME:PDT
DTSTART:20270314T100000
END:DAYLIGHT
BEGIN:STANDARD
TZOFFSETFROM:-0700
TZOFFSETTO:-0800
TZNAME:PST
DTSTART:20271107T090000
END:STANDARD
END:VTIMEZONE
BEGIN:VEVENT
DTSTART;TZID=America/Los_Angeles:20260103T100000
DTEND;TZID=America/Los_Angeles:20260103T110000
DTSTAMP:20260422T225053
CREATED:20251218T150821Z
LAST-MODIFIED:20251221T134805Z
UID:49607-1767434400-1767438000@www.magoacademy.org
SUMMARY:Virtual Open House
DESCRIPTION:Mago Academy invites you to the virtual Open House for Creatrix Studies Graduate and Continuing Education Programs. Come and learn about what Creatrix Studies is all about. Meet our faculty members who will teach their courses and prospective students. Find out Spring 2026 Courses here. When: 10AM-11 PM on Jan 3 (Sat) PT (60 min) \n\n\n\nFree and open to the public. \n\n\n\nRegistration: Fill out this form below (copy paste the following questions in your registration email). You will be emailed the Zoom information in a timely manner. \n\n\n\n  Registration Questions \n\n\n\n=Your Name \n\n\n\n=Which country are you residing? \n\n\n\n=What makes you interested in Creatrix Studies? \n\n\n\n=Have you ever taken courses that Mago Academy offers? If yes\, please list the courses \n\n\n\n=Do you have questions? * \n\n\n\n\n\n  Session Contents \n\n\n\n=Introduction to Creatrix Studies: Dr. Helen Hye-Sook Hwang \n\n\n\n= Spring 2026 for Creatrix Studies (including faculty members) \n\n\n\n=Meet Founding Faculty Members: Dr. Judy Grahn\, Dr. Nane Jordan\, Dr. Helen Benigni\, Dr. Kaarina Kailo =Questions and Answers =Meet Prospective Students We look forward to seeing you! \n\n\n\n\n\n\n\n\n\n*** Share this:\n				Share on Bluesky (Opens in new window)\n				Bluesky\n			\n				Share on Facebook (Opens in new window)\n				Facebook\n			\n				Share on LinkedIn (Opens in new window)\n				LinkedIn\n			\n				Share on X (Opens in new window)\n				X\n			\n				Print (Opens in new window)\n				Print\n			\n				Email a link to a friend (Opens in new window)\n				Email
URL:https://www.magoacademy.org/calendar/virtual-open-house/
CATEGORIES:Creatrix Studies
END:VEVENT
END:VCALENDAR