BEGIN:VCALENDAR
VERSION:2.0
PRODID:-//MAGO ACADEMY - ECPv6.15.20//NONSGML v1.0//EN
CALSCALE:GREGORIAN
METHOD:PUBLISH
X-ORIGINAL-URL:https://www.magoacademy.org
X-WR-CALDESC:Events for MAGO ACADEMY
REFRESH-INTERVAL;VALUE=DURATION:PT1H
X-Robots-Tag:noindex
X-PUBLISHED-TTL:PT1H
BEGIN:VTIMEZONE
TZID:America/Los_Angeles
BEGIN:DAYLIGHT
TZOFFSETFROM:-0800
TZOFFSETTO:-0700
TZNAME:PDT
DTSTART:20250309T100000
END:DAYLIGHT
BEGIN:STANDARD
TZOFFSETFROM:-0700
TZOFFSETTO:-0800
TZNAME:PST
DTSTART:20251102T090000
END:STANDARD
BEGIN:DAYLIGHT
TZOFFSETFROM:-0800
TZOFFSETTO:-0700
TZNAME:PDT
DTSTART:20260308T100000
END:DAYLIGHT
BEGIN:STANDARD
TZOFFSETFROM:-0700
TZOFFSETTO:-0800
TZNAME:PST
DTSTART:20261101T090000
END:STANDARD
BEGIN:DAYLIGHT
TZOFFSETFROM:-0800
TZOFFSETTO:-0700
TZNAME:PDT
DTSTART:20270314T100000
END:DAYLIGHT
BEGIN:STANDARD
TZOFFSETFROM:-0700
TZOFFSETTO:-0800
TZNAME:PST
DTSTART:20271107T090000
END:STANDARD
END:VTIMEZONE
BEGIN:VEVENT
DTSTART;TZID=America/Los_Angeles:20260302T090000
DTEND;TZID=America/Los_Angeles:20260323T110000
DTSTAMP:20260422T232153
CREATED:20260202T163414Z
LAST-MODIFIED:20260202T163541Z
UID:50204-1772442000-1774263600@www.magoacademy.org
SUMMARY:(Course) Female Divine in Myth\, History and Culture
DESCRIPTION:Mago Academy offers Female Divine in Myth\, History and Culture\, as an elective course of the Creatrix Studies Programs (CSP). You may take it as 0.5 credit course toward your M.A. or Ph.D. in Creatrix Studies program or audit it for non-degree track education. \nFemale Divine in Myth\, History and Culture (0.5 Credits) \nCourse no: 405 \nInstructor: Helen Benigni\, Ph.D. \nTime: 9AM to 11 PM PT March 2-March 23 (Mondays\, 2 hour-long 4 weekly sessions) \nDescription: This course traces the evolution of the basic archetypes of the Goddesses of Life\, Death and Regeneration outlined by Marija Gimbutas as they evolve from the Paleolithic Era to the Bronze and Iron Ages. Focus on the Creatrix and Regeneration Goddesses in Western Europe and the Mediterranean reveals attributes in the matricentric cultures that allowed all forms of the Goddess to flourish as part of an expression of the Female Divine in myth\, history and culture. (Continue to read for course summary.) \nMago Academy offers Female Divine in Myth\, History and Culture\, as an elective course of the Creatrix Studies Programs (CSP). You may take it as 0.5 credit course toward your M.A. or Ph.D. in Creatrix Studies program or audit it for non-degree track education. \nFemale Divine in Myth\, History and Culture (0.5 Credits) \nCourse no: 405 \nInstructor: Helen Benigni\, Ph.D. \nTime: 9AM to 11 PM PT March 2-March 23 (Mondays\, 2 hour-long 4 weekly sessions) \nDescription: This course traces the evolution of the basic archetypes of the Goddesses of Life\, Death and Regeneration outlined by Marija Gimbutas as they evolve from the Paleolithic Era to the Bronze and Iron Ages. Focus on the Creatrix and Regeneration Goddesses in Western Europe and the Mediterranean reveals attributes in the matricentric cultures that allowed all forms of the Goddess to flourish as part of an expression of the Female Divine in myth\, history and culture. (Continue to read for course summary.) \n\n\n\n  \n\nRegistration Available Now! \nMago Academy accepts registration for Spring 2026 Courses. For the list of Spring 2026 courses\, see here. \nIf you want to register courses as your graduate degree program\, go to Coursework Application Guides. \nFill out the form below and email to Dr. Helen Hye-Sook Hwang (magoacademy@gmail.com) with the payment (Copy and paste the form in the body of your email). For other methods of payment\, email Dr. Hwang for instructions. A Zoom link will be provided to registered students 2-3 days prior to the first session of your course. \nGo to the Registration Page here. \nShare this:\n				Share on Bluesky (Opens in new window)\n				Bluesky\n			\n				Share on Facebook (Opens in new window)\n				Facebook\n			\n				Share on LinkedIn (Opens in new window)\n				LinkedIn\n			\n				Share on X (Opens in new window)\n				X\n			\n				Print (Opens in new window)\n				Print\n			\n				Email a link to a friend (Opens in new window)\n				Email
URL:https://www.magoacademy.org/calendar/course-female-divine-in-myth-history-and-culture/
CATEGORIES:Courses
END:VEVENT
BEGIN:VEVENT
DTSTART;TZID=America/Los_Angeles:20260307T110000
DTEND;TZID=America/Los_Angeles:20260307T110000
DTSTAMP:20260422T232153
CREATED:20260205T152157Z
LAST-MODIFIED:20260205T152218Z
UID:50221-1772881200-1772881200@www.magoacademy.org
SUMMARY:Creatrix Studies Learners Virtual Gathering
DESCRIPTION:Mago Academy hosts Creatrix Studies Learners (Instructors and Students) Virtual Gatherings (60 min) on the first Saturday of the months of March\, August\, and November annually. It is open to the public\, free of charge\, with registration. \nTime & Date: 11AM-12PM Pacific Time on March 7\, 2026 \nWorld Clock Converter: https://www.worldtimebuddy.com/ \nTheme: “Meet New Learners (Instructors and Students) and Join Upcoming Courses and Events” \nContents: \n=Greet our new instructor learners as well as student learners who will introduce themselves briefly. \n=Learn about the upcoming courses and events. \n=Share who you are by saying your name\, country of residence\, and your interests in Creatrix Studies Programs and Events. \nRegistration: Please fill out the brief form below (copy and paste it in the body of your email) and email it to Dr. Helen Hwang (magoacademy@gmail.com). Indicate “Learners Gathering” in the subject line of your email. The Zoom info will be emailed to you 2-4 days prior to the event. \n\n\n\n\nName\n\n\n\nEmail Address\n\n\n\nCountry of Residence and Timezone\n\n\n\nOrganization or affiliation\, if applicable\n\n\n\nPersonal Statement (What interests you to our gathering?)\n\n\n\n\n\n  \nFuture Gatherings: July 4\, 2026 (TBA)\, November 7\, 2026 (TBA) \n  \n  \nCreatrix Studies Learners Virtual Gatherings \n \nShare this:\n				Share on Bluesky (Opens in new window)\n				Bluesky\n			\n				Share on Facebook (Opens in new window)\n				Facebook\n			\n				Share on LinkedIn (Opens in new window)\n				LinkedIn\n			\n				Share on X (Opens in new window)\n				X\n			\n				Print (Opens in new window)\n				Print\n			\n				Email a link to a friend (Opens in new window)\n				Email
URL:https://www.magoacademy.org/calendar/creatrix-studies-learners-virtual-gathering/
CATEGORIES:Calendar
END:VEVENT
BEGIN:VEVENT
DTSTART;TZID=America/Los_Angeles:20260330T080000
DTEND;TZID=America/Los_Angeles:20260330T170000
DTSTAMP:20260422T232153
CREATED:20260223T203632Z
LAST-MODIFIED:20260223T203632Z
UID:50354-1774857600-1774890000@www.magoacademy.org
SUMMARY:(Course) Creatrix and Mothers: Thealogies of Birth
DESCRIPTION:Mago Academy offers Creatrix and Mothers: Thealogies of Birth\, as an elective course of the Creatrix Studies Programs (CSP). You may take it as 0.5 credit course toward your M.A. or Ph.D. in Creatrix Studies program or audit it for non-degree track education. \nCreatrix and Mothers: Thealogies of Birth (0.5 Credit)\nCourse no: 403\nInstructor: Nané  Jordan\, Ph.D. \nTime: 10AM-12PM PT March 30-April 20 (2 hour-long 4 weekly sessions) \nDescription: Thealogies of birth explores the birthing-potentiality of the divine female/feminine and Great Mother in connection to women’s birth-giving power. Reflecting on thea-logy\, as in study of Goddess\, through an embodied\, eco-spiritual feminist lens that holds birth\, those who give it\, and all being born as sacred\, we inquire into matricentric (mother-centred) understandings of birth and qualities of experience. Weaving meaning with Earth-honouring thea-perspectives\, we explore interconnecting threads of goddesses and mothers—write large and small—at the centre of birthing agency\, care\, and spirituality\, and potentials of such in our lives. (Continue to read for course summary.) \n\nRegistration Available Now! \nMago Academy accepts registration for Spring 2026 Courses. For the list of Spring 2026 courses\, see here. \nIf you want to register courses as your graduate degree program\, go to Coursework Application Guides. \nFill out the form below and email to Dr. Helen Hye-Sook Hwang (magoacademy@gmail.com) with the payment (Copy and paste the form in the body of your email). For other methods of payment\, email Dr. Hwang for instructions. A Zoom link will be provided to registered students 2-3 days prior to the first session of your course. \nRegistration available below: \nRegistration Open: Creatrix and Mothers: Thealogies of Birth \n \nShare this:\n				Share on Bluesky (Opens in new window)\n				Bluesky\n			\n				Share on Facebook (Opens in new window)\n				Facebook\n			\n				Share on LinkedIn (Opens in new window)\n				LinkedIn\n			\n				Share on X (Opens in new window)\n				X\n			\n				Print (Opens in new window)\n				Print\n			\n				Email a link to a friend (Opens in new window)\n				Email
URL:https://www.magoacademy.org/calendar/course-creatrix-and-mothers-thealogies-of-birth/
END:VEVENT
BEGIN:VEVENT
DTSTART;TZID=America/Los_Angeles:20260418T120000
DTEND;TZID=America/Los_Angeles:20260418T133000
DTSTAMP:20260422T232153
CREATED:20260401T193850Z
LAST-MODIFIED:20260401T195455Z
UID:50745-1776513600-1776519000@www.magoacademy.org
SUMMARY:(Poetry Salon) Nine Poets Speak for Matriversal Feminism
DESCRIPTION:Mago Academy is happy to announce the April Poetry Salon\, a spinoff project from the April Salon\, Poets Lead the Goddess Feminist Activist Spirituality Movement. \nOur presenting poets are Harriet Ann Ellenberger\, Tamara Wyndham\, Harita Meenee\, Mary Saracino\, and Sara Wright. Responding poets are Jsabél Bilqís and Helen Hye-Sook Hwang. Then\, we will have an open floor time by inviting the audience participants to chime in with your insights\, questions\, or a poem to resonate with the voices of the featured poets. \nThe Poetry Salon marks continuation of “Nine Poets Speak” as part of the Tri-Annual She Rises Poetry Salons. “The Nine Poets” does NOT refer to the designated figures but refers to an open circle of the poets whose poetry works are aligned with the Goddess Feminist Activist Spirituality Movement\, a specific thread that began as the She Rises trilogy. The number nine refers to the Nature’s Way patterned through the Ninefold Cosmic Music\, the creative force of the Matriverse (Maternally perceived universe)\, which is represented as the Nine Mago Creatrix (based on Dr. Helen Hye-Sook Hwang’s research on Ceto-Magoism\, the Whale-guided Way of Mago\, the Creatrix). \nTheme: Let the Power of Poems Transform Again and Ever \nWhen: April 18 (Sat) Noon – 1:30 PM PT (90 min) \nModerator: Helen Hye-Sook Hwang \nPresenting Poets: Harriet Ann Ellenberger\, Tamara Wyndham\, Harita Meenee\, Mary Saracino\, and Sara Wright \nResponding Poets: Jsabél Bilqís and Helen Hye-Sook Hwang \n  \nContents: \nPresentations (each presents for about 10 min) \nRespondences (each responds for 6 min) \nOpen Floor Time with the audience (15-20 min) \nPresentation details are included at the end of this page. \nRegistration and other details are here: \n(Poetry Salon 4) Nine Poets Speak for Matriversal Feminist Activist Spirituality \n \nShare this:\n				Share on Bluesky (Opens in new window)\n				Bluesky\n			\n				Share on Facebook (Opens in new window)\n				Facebook\n			\n				Share on LinkedIn (Opens in new window)\n				LinkedIn\n			\n				Share on X (Opens in new window)\n				X\n			\n				Print (Opens in new window)\n				Print\n			\n				Email a link to a friend (Opens in new window)\n				Email
URL:https://www.magoacademy.org/calendar/poetry-salon-nine-poets-speak-for-matriversal-feminism/
CATEGORIES:She Rises Salons
END:VEVENT
BEGIN:VEVENT
DTSTART;TZID=America/Los_Angeles:20260509T080000
DTEND;TZID=America/Los_Angeles:20260509T170000
DTSTAMP:20260422T232153
CREATED:20260401T195112Z
LAST-MODIFIED:20260401T195237Z
UID:50748-1778313600-1778346000@www.magoacademy.org
SUMMARY:S/HE Forum Course Summer 2026
DESCRIPTION:Mago Academy offers the S/HE Forum Summer 2026 Course\, a total of 2 forums\, as an elective course of the Creatrix Studies Programs (CSP). You may take it as 0.5 credit course toward your M.A. or Ph.D. in Creatrix Studies programs or audit it not for academic credit. \nS/HE Forums Summer 2026 (0.5 Credit\, 0.25 credit for each forum section) \nCourse no: 901 \nInstructors: Helen Benigni Ph.D.\, Helen Hye-Sook Hwang Ph.D. \nTime: Second and/or Fourth Sat of each month\, 15 or 16 hours \nDescription: The S/HE Forum is a collective teaching course prepared and facilitated by forum organizers (0.25 credit for each forum section). Each of forum organizers will lead 4 hours of either one or two sessions in a month for the duration of four months. Each facilitator/teacher leads a class focusing on the topic of her own expertise by inviting 2-4 guest speakers who will speak on the topic salient to the forum theme. For a degree program student\, you are required to submit a research paper. \nForum 1 \nTitle: The Goddesses of Prophecy \nTime: 10:00 AM to 12:00 PM PST on May 9 and May 23  (two sessions of 2 hours per session) \nOrganizer/Instructor: Helen Benigni Ph.D. in USA \nSummary:  “The Goddesses of Prophecy” introduces the Goddesses as time-keepers\, earth-keepers\, and star-keepers of the knowledge of the prophecy and wisdom of regeneration. In order to communicate the knowledge of the unknown and perhaps the future of humankind\, the Goddess as prophet gives and receives a communication with us in order that we may renew the cycles of time\, the cycles of the earth\, and the cycles of the cosmos. Prophecy of the coming year based on the harvest is ultimately important and renewal or replacement of the old ways is part of that process. The management of the earth’s forces is vital on all levels. On a pragmatic level\, the garden must be blessed and fruits\, vegetables and especially herbs are used or stored for their year-long use. On an erotic level\, the passion of life is released in the summer months\, and it too must be carefully tended. To the ancient people\, the summer was the time to harvest the spirit as well. Eternal bliss is captured in the stars\, the moon and the sun as the stories of the heavens unfold the nature of the inexhaustible\, Great Mother. In Greek mythology\, The Goddess of Prophecy is Hera\, and in Celtic mythology\, She is The Morrigu\, Nemain\, and the Badv. Sites for the Goddesses of Prophecy include the Oracle of Delphi and the Oracle of Dodona in Greece\, and Newgrange\, Stonehenge and Gavrinis in the Celtic nations. Her priestesses\, Her rituals\, Her dances and Her prophecies are all part of the textures woven into a sacred gown that The Goddess of Prophecy wears. \nForum 2 \nTitle: 2026 S/HE Conference: The Great Unity of ALL in the Cosmic Mother \nTime: June 11-14 (take 3 sessions to qualify 0.25 credit) \nOrganizer/Instructor: Helen Hye-Sook Hwang\, Ph.D. in U.S.A. \nSummary: If you register for the conference\, no need to pay the fee for this forum section. Simply attend a minimum of 3 sessions and email Dr. Hwang (magoacademy@gmail.com) the list of sessions that you attended. The 2026 S/HE Conference in every third year is dedicated to the topic of cross-cultural and intercultural collaborations. The conference opens a new trail of its tradition\, celebrating the Great Unity of ALL (including inorganic entities) in the Cosmic Mother. The S/HE Conference may be participated as part of Creatrix Studies Programs offered by Mago Academy. Go to Registration of 2026 S/HE Conference. \n(For forum details\, continue to read till the end.) \nRegistration Open: S/HE Forum Course Summer 2026 \n \nShare this:\n				Share on Bluesky (Opens in new window)\n				Bluesky\n			\n				Share on Facebook (Opens in new window)\n				Facebook\n			\n				Share on LinkedIn (Opens in new window)\n				LinkedIn\n			\n				Share on X (Opens in new window)\n				X\n			\n				Print (Opens in new window)\n				Print\n			\n				Email a link to a friend (Opens in new window)\n				Email
URL:https://www.magoacademy.org/calendar/s-he-forum-course-summer-2026/
CATEGORIES:S/HE Forums
END:VEVENT
END:VCALENDAR