BEGIN:VCALENDAR
VERSION:2.0
PRODID:-//MAGO ACADEMY - ECPv6.15.20//NONSGML v1.0//EN
CALSCALE:GREGORIAN
METHOD:PUBLISH
X-ORIGINAL-URL:https://www.magoacademy.org
X-WR-CALDESC:Events for MAGO ACADEMY
REFRESH-INTERVAL;VALUE=DURATION:PT1H
X-Robots-Tag:noindex
X-PUBLISHED-TTL:PT1H
BEGIN:VTIMEZONE
TZID:America/Los_Angeles
BEGIN:DAYLIGHT
TZOFFSETFROM:-0800
TZOFFSETTO:-0700
TZNAME:PDT
DTSTART:20250309T100000
END:DAYLIGHT
BEGIN:STANDARD
TZOFFSETFROM:-0700
TZOFFSETTO:-0800
TZNAME:PST
DTSTART:20251102T090000
END:STANDARD
BEGIN:DAYLIGHT
TZOFFSETFROM:-0800
TZOFFSETTO:-0700
TZNAME:PDT
DTSTART:20260308T100000
END:DAYLIGHT
BEGIN:STANDARD
TZOFFSETFROM:-0700
TZOFFSETTO:-0800
TZNAME:PST
DTSTART:20261101T090000
END:STANDARD
BEGIN:DAYLIGHT
TZOFFSETFROM:-0800
TZOFFSETTO:-0700
TZNAME:PDT
DTSTART:20270314T100000
END:DAYLIGHT
BEGIN:STANDARD
TZOFFSETFROM:-0700
TZOFFSETTO:-0800
TZNAME:PST
DTSTART:20271107T090000
END:STANDARD
END:VTIMEZONE
BEGIN:VEVENT
DTSTART;TZID=America/Los_Angeles:20260103T100000
DTEND;TZID=America/Los_Angeles:20260103T110000
DTSTAMP:20260422T210809
CREATED:20251218T150821Z
LAST-MODIFIED:20251221T134805Z
UID:49607-1767434400-1767438000@www.magoacademy.org
SUMMARY:Virtual Open House
DESCRIPTION:Mago Academy invites you to the virtual Open House for Creatrix Studies Graduate and Continuing Education Programs. Come and learn about what Creatrix Studies is all about. Meet our faculty members who will teach their courses and prospective students. Find out Spring 2026 Courses here. When: 10AM-11 PM on Jan 3 (Sat) PT (60 min) \n\n\n\nFree and open to the public. \n\n\n\nRegistration: Fill out this form below (copy paste the following questions in your registration email). You will be emailed the Zoom information in a timely manner. \n\n\n\n  Registration Questions \n\n\n\n=Your Name \n\n\n\n=Which country are you residing? \n\n\n\n=What makes you interested in Creatrix Studies? \n\n\n\n=Have you ever taken courses that Mago Academy offers? If yes\, please list the courses \n\n\n\n=Do you have questions? * \n\n\n\n\n\n  Session Contents \n\n\n\n=Introduction to Creatrix Studies: Dr. Helen Hye-Sook Hwang \n\n\n\n= Spring 2026 for Creatrix Studies (including faculty members) \n\n\n\n=Meet Founding Faculty Members: Dr. Judy Grahn\, Dr. Nane Jordan\, Dr. Helen Benigni\, Dr. Kaarina Kailo =Questions and Answers =Meet Prospective Students We look forward to seeing you! \n\n\n\n\n\n\n\n\n\n*** Share this:\n				Share on Bluesky (Opens in new window)\n				Bluesky\n			\n				Share on Facebook (Opens in new window)\n				Facebook\n			\n				Share on LinkedIn (Opens in new window)\n				LinkedIn\n			\n				Share on X (Opens in new window)\n				X\n			\n				Print (Opens in new window)\n				Print\n			\n				Email a link to a friend (Opens in new window)\n				Email
URL:https://www.magoacademy.org/calendar/virtual-open-house/
CATEGORIES:Creatrix Studies
END:VEVENT
BEGIN:VEVENT
DTSTART;TZID=America/Los_Angeles:20260113T090000
DTEND;TZID=America/Los_Angeles:20260113T130000
DTSTAMP:20260422T210809
CREATED:20260108T121952Z
LAST-MODIFIED:20260108T121952Z
UID:50061-1768294800-1768309200@www.magoacademy.org
SUMMARY:Course: Introduction to Creatrix Studies
DESCRIPTION:Mago Academy offers Introduction to Creatrix Studies\, as a core course of the Creatrix Studies Programs (CSP). You may take it as 2 credit course toward your M.A. or Ph.D. in Creatrix Studies programs or audit it not for academic credit. \nIntroduction to Creatrix Studies (2 Credits) \nCourse no: 101 \nInstructor: Helen Hye-Sook Hwang\, Ph.D. \nTime: 9AM to 1PM PT Jan 13-March 3 (Tuesdays\, 4 hour-long 8 weekly sessions) \nDescription: Creatrix Studies is born as a modern revival of the pre-patriarchally originated Ceto-Magoism (the Whale-guided Way of Mago\, the Creatrix)\, which largely remains demonized as sea-monsters/dragons/serpents today. Chiseled by Goma better known as Ungnyeo (Bear/Head Woman) among Koreans\, the Magoist Mudang Queen Mother in the early fourth millennium BCE\, the matriversal (of maternally perceived universe) consciousness to be revived transforms feminist spirituality into its destination\, Matriversal Soteriology. We restore the bond between the natural world headed by cetaceans/whales and the human world bequeathed by our matricentric ancestors across cultures. The core course topics (Magoist Cosmology\, Ceto-ecofeminist Spirituality\, Ceto-Magoist Soteriology & Patriarchy\, Matriarchal Histories and Practices) will be discussed. (Continue to read for course summary.) \n\nRegistration is available below: \nRegistration Open: Introduction to Creatrix Studies \n \nShare this:\n				Share on Bluesky (Opens in new window)\n				Bluesky\n			\n				Share on Facebook (Opens in new window)\n				Facebook\n			\n				Share on LinkedIn (Opens in new window)\n				LinkedIn\n			\n				Share on X (Opens in new window)\n				X\n			\n				Print (Opens in new window)\n				Print\n			\n				Email a link to a friend (Opens in new window)\n				Email
URL:https://www.magoacademy.org/calendar/course-introduction-to-creatrix-studies/
CATEGORIES:Courses,Creatrix Studies
END:VEVENT
BEGIN:VEVENT
DTSTART;TZID=America/Los_Angeles:20260124T090000
DTEND;TZID=America/Los_Angeles:20260124T110000
DTSTAMP:20260422T210809
CREATED:20260108T115624Z
LAST-MODIFIED:20260117T044034Z
UID:50059-1769245200-1769252400@www.magoacademy.org
SUMMARY:S/HE Forum #1
DESCRIPTION:Forum 1 (0.25 Credit) \nTitle: The Great Goddess of the Winter Sky \nTime: 9AM to 11AM PST on Jan 10 and Jan 24 (two sessions of 2 hours per session) \nOrganizer/Instructor: Helen Benigni Ph.D. in USA \nSummary: The Forum Session “The Great Goddess of the Winter Sky” presents the attributes of the Goddess in her many forms. Vivien Gibbons introduces us to the Blood Mysteries of Womanhood in the Artemis\, Hekate and Demeter trinity that embodies the sacred cycles of the feminine of which Artemis plays a vital role. By tracing Artemis’ roots to the Paleolithic Era with Her bear and bee associations\, Carla Ionesco’s presentation follows Artemis’ evolution from cave to temple bridging her identity into the Classical world of ancient Greece. Drawing on archaeological and iconographic evidence\, Carla Ionescu traces Artemis’ evolution from the cave to the temple\, showing how Artemis’ identity as both wild and sovereign bridges Paleolithic ritual consciousness with the structured cults of the classical world. In an analysis of Artemis as both Creatrix and Goddess of Life\, Death and Regeneration\, Dr. Helen Benigni focuses on the constellations and lunar cycles associated with Artemis in the winter months of the night sky. Finally\, in a discussion that follows the presentations\, the archetype of The Great Goddess of the Winter Sky is explored in Celtic and Greek cultures in a comparison with Brigit in Celtic mythology. \nGuest Presenters: Vivien Gibbons\, Ph.D.\, Carla Ionescu\, Ph.D. \nRegistration is available below: \nRegistration Open: S/HE Forum Course Spring 2026 \n \nShare this:\n				Share on Bluesky (Opens in new window)\n				Bluesky\n			\n				Share on Facebook (Opens in new window)\n				Facebook\n			\n				Share on LinkedIn (Opens in new window)\n				LinkedIn\n			\n				Share on X (Opens in new window)\n				X\n			\n				Print (Opens in new window)\n				Print\n			\n				Email a link to a friend (Opens in new window)\n				Email
URL:https://www.magoacademy.org/calendar/s-he-forum-1/
CATEGORIES:S/HE Forums
END:VEVENT
END:VCALENDAR